BEGIN:VCALENDAR
VERSION:2.0
PRODID: -//Q4 Inc.//EN
METHOD:PUBLISH
BEGIN:VTIMEZONE
TZID:America/New_York
X-LIC-LOCATION:America/New_York
BEGIN:DAYLIGHT
TZOFFSETFROM:-0500
TZOFFSETTO:-0400
TZNAME:EDT
DTSTART:19700308T020000
RRULE:FREQ=YEARLY;BYMONTH=3;BYDAY=2SU
END:DAYLIGHT
BEGIN:STANDARD
TZOFFSETFROM:-0400
TZOFFSETTO:-0500
TZNAME:EST
DTSTART:19701101T020000
RRULE:FREQ=YEARLY;BYMONTH=11;BYDAY=1SU
END:STANDARD
END:VTIMEZONE
BEGIN:VEVENT
ORGANIZER:MAILTO:info@blank.q4web.com
DTSTART;TZID="America/New_York":20211109T090000
DTEND;TZID="America/New_York":20211109T100000
LOCATION:
UID:27f3e93e-239e-4114-8db4-28e0f069192d
DTSTAMP:20260422T033010
SUMMARY:Q3 2021 CT REIT Financial Results Conference Call & Webcast
DESCRIPTION: View More Information: https://www.ctreit.com/English/news-and-events/events-and-webcasts/event-details/2021/Q3-2021-CT-REIT-Financial-Results-Conference-Call--Webcast/default.aspx
URL;VALUE=URI:https://www.ctreit.com/English/news-and-events/events-and-webcasts/event-details/2021/Q3-2021-CT-REIT-Financial-Results-Conference-Call--Webcast/default.aspx
PRIORITY:5
CLASS:PUBLIC
END:VEVENT
END:VCALENDAR
